BEGIN:VCALENDAR
PRODID:-//github.com/rianjs/ical.net//NONSGML ical.net 2.1//EN
VERSION:2.0
BEGIN:VEVENT
DTEND;VALUE=DATE:20260619
DTSTAMP:20260420T122208
DTSTART;VALUE=DATE:20260617
LOCATION:Online / Online / Online
SEQUENCE:0
SUMMARY:13.1.1 Çevik Liderlik
UID:b617f978-5bcc-4794-8f89-58f72817b843
END:VEVENT
END:VCALENDAR
