BEGIN:VCALENDAR
PRODID:-//github.com/rianjs/ical.net//NONSGML ical.net 2.1//EN
VERSION:2.0
BEGIN:VEVENT
DTEND;VALUE=DATE:20240815
DTSTAMP:20260423T114415
DTSTART;VALUE=DATE:20240813
LOCATION:Online / Online / Online
SEQUENCE:0
SUMMARY:13.3.2 Stratejik Düşünme Eğitimi
UID:51ec70fc-19a4-4a86-903c-9ba49204a9ad
END:VEVENT
END:VCALENDAR
