BEGIN:VCALENDAR
PRODID:-//github.com/rianjs/ical.net//NONSGML ical.net 2.1//EN
VERSION:2.0
BEGIN:VEVENT
DTEND;VALUE=DATE:20220519
DTSTAMP:20260424T191905
DTSTART;VALUE=DATE:20220518
LOCATION:Online / Beşiktaş / 	İstanbul
SEQUENCE:0
SUMMARY:14.2.5 Ürün Portföyünüzü Finansal Açıdan Optimize Edin: Maliyet\, 
 Fiyatlandırma ve Karlılık Eğitimi
UID:3db1ad3f-6a76-4a30-a76c-aadbecce87eb
END:VEVENT
END:VCALENDAR
