BEGIN:VCALENDAR
PRODID:-//github.com/rianjs/ical.net//NONSGML ical.net 2.1//EN
VERSION:2.0
BEGIN:VEVENT
DTEND;VALUE=DATE:20250731
DTSTAMP:20260421T111945
DTSTART;VALUE=DATE:20250730
LOCATION:Online / Online / Online
SEQUENCE:0
SUMMARY:3.100 Asgari Kurumlar Vergisi
UID:f2d85a2f-e6ed-4854-b737-917534f2ca5e
END:VEVENT
END:VCALENDAR
