BEGIN:VCALENDAR
PRODID:-//github.com/rianjs/ical.net//NONSGML ical.net 2.1//EN
VERSION:2.0
BEGIN:VEVENT
DTEND;VALUE=DATE:20251120
DTSTAMP:20260420T121418
DTSTART;VALUE=DATE:20251119
LOCATION:Online / Online / Online
SEQUENCE:0
SUMMARY:3.2.2 Finansçı Olmayanlar İçin Finans ve Mali Tablo Analizi\n
UID:3410b253-2310-4cf3-8fe3-e16fd0cea9e1
END:VEVENT
END:VCALENDAR
