BEGIN:VCALENDAR
PRODID:-//github.com/rianjs/ical.net//NONSGML ical.net 2.1//EN
VERSION:2.0
BEGIN:VEVENT
DTEND;VALUE=DATE:20260611
DTSTAMP:20260421T111106
DTSTART;VALUE=DATE:20260610
LOCATION:Online / Online / Online
SEQUENCE:0
SUMMARY:3.3.1 Bütçe Yaklaşımları\, Prensipleri ile Bütçe Hazırlık Eğitimi
UID:27ba9b8c-2855-4766-805a-d94daf50a206
END:VEVENT
END:VCALENDAR
