BEGIN:VCALENDAR
PRODID:-//github.com/rianjs/ical.net//NONSGML ical.net 2.1//EN
VERSION:2.0
BEGIN:VEVENT
DTEND;VALUE=DATE:20211028
DTSTAMP:20260420T232505
DTSTART;VALUE=DATE:20211026
LOCATION:Online olarak gerçekleşecektir. / Beşiktaş / 	İstanbul
SEQUENCE:0
SUMMARY:3.4.4 Finansal Piyasaların Şifreleri: Kurumlarda Hazine Yönetimi v
 e Ürün Bilgisi
UID:03f0ae88-8ed5-490f-9aae-cf4c135b924b
END:VEVENT
END:VCALENDAR
