BEGIN:VCALENDAR
PRODID:-//github.com/rianjs/ical.net//NONSGML ical.net 2.1//EN
VERSION:2.0
BEGIN:VEVENT
DTEND;VALUE=DATE:20230920
DTSTAMP:20260420T182439
DTSTART;VALUE=DATE:20230919
LOCATION:Online / Online / Online
SEQUENCE:0
SUMMARY:5.3.3 KDV İadesinde Güncel Gelişmeler
UID:16bc4399-5ba1-42ef-9fc9-5ddf9778a996
END:VEVENT
END:VCALENDAR
