BEGIN:VCALENDAR
PRODID:-//github.com/rianjs/ical.net//NONSGML ical.net 2.1//EN
VERSION:2.0
BEGIN:VEVENT
DTEND;VALUE=DATE:20220204
DTSTAMP:20260422T035702
DTSTART;VALUE=DATE:20220202
LOCATION:Online olarak gerçekleşecektir. / Beşiktaş / 	İstanbul
SEQUENCE:0
SUMMARY:8.100 İş Sürekliliği ve ISO 22301 İş Sürekliliği Yönetim Sistemi
UID:c8970f2f-8f2a-416b-a9b6-0a5c6377f058
END:VEVENT
END:VCALENDAR
