BEGIN:VCALENDAR
PRODID:-//github.com/rianjs/ical.net//NONSGML ical.net 2.1//EN
VERSION:2.0
BEGIN:VEVENT
DTEND;VALUE=DATE:20230701
DTSTAMP:20260419T183021
DTSTART;VALUE=DATE:20230630
LOCATION:Online / 1 Aylık Abonelik / E-Learning
SEQUENCE:0
SUMMARY:Finansçı Olmayanlar İçin Finansal Tablolar
UID:d91bb725-4d47-4c15-aaed-7d3c8139c8cb
END:VEVENT
END:VCALENDAR
